BEGIN:VCALENDAR
VERSION:2.0
PRODID:-//Copper Canyon Golf Club - ECPv6.15.18//NONSGML v1.0//EN
CALSCALE:GREGORIAN
METHOD:PUBLISH
X-WR-CALNAME:Copper Canyon Golf Club
X-ORIGINAL-URL:https://www.coppercanyongolfclub.com
X-WR-CALDESC:Events for Copper Canyon Golf Club
REFRESH-INTERVAL;VALUE=DURATION:PT1H
X-Robots-Tag:noindex
X-PUBLISHED-TTL:PT1H
BEGIN:VTIMEZONE
TZID:UTC
BEGIN:STANDARD
TZOFFSETFROM:+0000
TZOFFSETTO:+0000
TZNAME:UTC
DTSTART:20230101T000000
END:STANDARD
END:VTIMEZONE
BEGIN:VEVENT
DTSTART;VALUE=DATE:20240215
DTEND;VALUE=DATE:20240216
DTSTAMP:20260424T141037
CREATED:20240105T031011Z
LAST-MODIFIED:20240105T031011Z
UID:895-1707955200-1708041599@www.coppercanyongolfclub.com
SUMMARY:Copper Canyon Invitational - Limited Tee Times
DESCRIPTION:Due to the event\, slightly fewer tee times than normal will be available on this day.
URL:https://www.coppercanyongolfclub.com/event/copper-canyon-invitational-limited-tee-times/
END:VEVENT
END:VCALENDAR