BEGIN:VCALENDAR
VERSION:2.0
PRODID:-//Copper Canyon Golf Club - ECPv6.15.18//NONSGML v1.0//EN
CALSCALE:GREGORIAN
METHOD:PUBLISH
X-WR-CALNAME:Copper Canyon Golf Club
X-ORIGINAL-URL:https://www.coppercanyongolfclub.com
X-WR-CALDESC:Events for Copper Canyon Golf Club
REFRESH-INTERVAL;VALUE=DURATION:PT1H
X-Robots-Tag:noindex
X-PUBLISHED-TTL:PT1H
BEGIN:VTIMEZONE
TZID:UTC
BEGIN:STANDARD
TZOFFSETFROM:+0000
TZOFFSETTO:+0000
TZNAME:UTC
DTSTART:20230101T000000
END:STANDARD
END:VTIMEZONE
BEGIN:VEVENT
DTSTART;VALUE=DATE:20240503
DTEND;VALUE=DATE:20240504
DTSTAMP:20260424T165149
CREATED:20240404T011726Z
LAST-MODIFIED:20240404T011726Z
UID:998-1714694400-1714780799@www.coppercanyongolfclub.com
SUMMARY:Private Golf Event
DESCRIPTION:There will be a group of 60 players at 7:45am which will reduce availability in the morning on this day.
URL:https://www.coppercanyongolfclub.com/event/private-golf-event/
END:VEVENT
END:VCALENDAR