BEGIN:VCALENDAR
VERSION:2.0
PRODID:-//Copper Canyon Golf Club - ECPv6.15.18//NONSGML v1.0//EN
CALSCALE:GREGORIAN
METHOD:PUBLISH
X-WR-CALNAME:Copper Canyon Golf Club
X-ORIGINAL-URL:https://www.coppercanyongolfclub.com
X-WR-CALDESC:Events for Copper Canyon Golf Club
REFRESH-INTERVAL;VALUE=DURATION:PT1H
X-Robots-Tag:noindex
X-PUBLISHED-TTL:PT1H
BEGIN:VTIMEZONE
TZID:UTC
BEGIN:STANDARD
TZOFFSETFROM:+0000
TZOFFSETTO:+0000
TZNAME:UTC
DTSTART:20230101T000000
END:STANDARD
END:VTIMEZONE
BEGIN:VEVENT
DTSTART;VALUE=DATE:20240704
DTEND;VALUE=DATE:20240705
DTSTAMP:20260424T202231
CREATED:20240613T233118Z
LAST-MODIFIED:20240613T233118Z
UID:1171-1720051200-1720137599@www.coppercanyongolfclub.com
SUMMARY:Fourth of July Tournament
DESCRIPTION:7:30am SG – Not regular tee times available until after 12:00pm – No WGC play
URL:https://www.coppercanyongolfclub.com/event/fourth-of-july-tournament/
END:VEVENT
END:VCALENDAR