BEGIN:VCALENDAR
VERSION:2.0
PRODID:-//Copper Canyon Golf Club - ECPv6.15.18//NONSGML v1.0//EN
CALSCALE:GREGORIAN
METHOD:PUBLISH
X-WR-CALNAME:Copper Canyon Golf Club
X-ORIGINAL-URL:https://www.coppercanyongolfclub.com
X-WR-CALDESC:Events for Copper Canyon Golf Club
REFRESH-INTERVAL;VALUE=DURATION:PT1H
X-Robots-Tag:noindex
X-PUBLISHED-TTL:PT1H
BEGIN:VTIMEZONE
TZID:UTC
BEGIN:STANDARD
TZOFFSETFROM:+0000
TZOFFSETTO:+0000
TZNAME:UTC
DTSTART:20230101T000000
END:STANDARD
END:VTIMEZONE
BEGIN:VEVENT
DTSTART;VALUE=DATE:20240306
DTEND;VALUE=DATE:20240308
DTSTAMP:20260424T134757
CREATED:20240208T231437Z
LAST-MODIFIED:20240208T231437Z
UID:907-1709683200-1709855999@www.coppercanyongolfclub.com
SUMMARY:MGC Club Championship
DESCRIPTION:First Tee Time available will be 11:29am due to the MGC Club Championship
URL:https://www.coppercanyongolfclub.com/event/mgc-club-championship/
END:VEVENT
BEGIN:VEVENT
DTSTART;VALUE=DATE:20240319
DTEND;VALUE=DATE:20240320
DTSTAMP:20260424T134757
CREATED:20240208T231623Z
LAST-MODIFIED:20240208T231623Z
UID:909-1710806400-1710892799@www.coppercanyongolfclub.com
SUMMARY:WGC Spring Fling and Copper Cup
DESCRIPTION:The first available tee time this day will be 12:54pm due to the WGC Spring Fling and Copper Cup events
URL:https://www.coppercanyongolfclub.com/event/wgc-spring-fling-and-copper-cup/
END:VEVENT
BEGIN:VEVENT
DTSTART;VALUE=DATE:20240321
DTEND;VALUE=DATE:20240322
DTSTAMP:20260424T134757
CREATED:20240208T233245Z
LAST-MODIFIED:20240208T233245Z
UID:911-1710979200-1711065599@www.coppercanyongolfclub.com
SUMMARY:Copper Cup
DESCRIPTION:There will be slightly fewer tee times available this day due to the Copper Cup event.
URL:https://www.coppercanyongolfclub.com/event/copper-cup/
END:VEVENT
BEGIN:VEVENT
DTSTART;VALUE=DATE:20240323
DTEND;VALUE=DATE:20240324
DTSTAMP:20260424T134757
CREATED:20240208T233335Z
LAST-MODIFIED:20240208T233335Z
UID:913-1711152000-1711238399@www.coppercanyongolfclub.com
SUMMARY:Copper Cup
DESCRIPTION:There will be slightly fewer tee times available this day due to the Copper Cup event.
URL:https://www.coppercanyongolfclub.com/event/copper-cup-2/
END:VEVENT
END:VCALENDAR