BEGIN:VCALENDAR
VERSION:2.0
PRODID:-//Copper Canyon Golf Club - ECPv6.15.18//NONSGML v1.0//EN
CALSCALE:GREGORIAN
METHOD:PUBLISH
X-WR-CALNAME:Copper Canyon Golf Club
X-ORIGINAL-URL:https://www.coppercanyongolfclub.com
X-WR-CALDESC:Events for Copper Canyon Golf Club
REFRESH-INTERVAL;VALUE=DURATION:PT1H
X-Robots-Tag:noindex
X-PUBLISHED-TTL:PT1H
BEGIN:VTIMEZONE
TZID:UTC
BEGIN:STANDARD
TZOFFSETFROM:+0000
TZOFFSETTO:+0000
TZNAME:UTC
DTSTART:20230101T000000
END:STANDARD
END:VTIMEZONE
BEGIN:VEVENT
DTSTART;VALUE=DATE:20240405
DTEND;VALUE=DATE:20240406
DTSTAMP:20260424T152435
CREATED:20240308T231038Z
LAST-MODIFIED:20240308T231038Z
UID:946-1712275200-1712361599@www.coppercanyongolfclub.com
SUMMARY:MGC/WGC Sponsored Mixed Chapman
DESCRIPTION:8:00am Shotgun start – 1st tee time of the day will not be until after 11:00am.
URL:https://www.coppercanyongolfclub.com/event/mgc-wgc-sponsored-mixed-chapman/
END:VEVENT
BEGIN:VEVENT
DTSTART;VALUE=DATE:20240408
DTEND;VALUE=DATE:20240409
DTSTAMP:20260424T152435
CREATED:20240308T231222Z
LAST-MODIFIED:20240308T231222Z
UID:948-1712534400-1712620799@www.coppercanyongolfclub.com
SUMMARY:MGC Duel in the Desert Day 1
DESCRIPTION:AM Shotgun Start – No early times available – 1st available time for the day will be after 11:00am
URL:https://www.coppercanyongolfclub.com/event/mgc-duel-in-the-desert-day-1/
END:VEVENT
BEGIN:VEVENT
DTSTART;VALUE=DATE:20240410
DTEND;VALUE=DATE:20240411
DTSTAMP:20260424T152435
CREATED:20240308T231248Z
LAST-MODIFIED:20240308T231248Z
UID:950-1712707200-1712793599@www.coppercanyongolfclub.com
SUMMARY:MGC Duel in the Desert Day 2
DESCRIPTION:AM Shotgun Start – No early times available – 1st available time for the day will be after 11:00am
URL:https://www.coppercanyongolfclub.com/event/mgc-duel-in-the-desert-day-2/
END:VEVENT
END:VCALENDAR